Workbook

Sheet General Dashboard
B2: General Assumptions
B3: Vat Registered | D3: No | E3: Mortgage Loan Ratio | G3: 0
B4: Inflation | D4: 0.028 | E4: Cost of Sale Ratio | G4: 1
B5: Property Appreciation | D5: 0.025 | E5: Corporation Tax Rate | G5: 0.19
B6: Fixed Asset Depreciation Rates | G6: Cash Flow Assumptions
B7: Fixed Asset Type | D7: Useful Economic Life (Years) | G7: Credit Days Sales | I7: 0
B8: Land & Buildings | D8: 100 | G8: Credit Days Purchases | I8: 18
B9: Fixtures and Fittings | D9: 30 | G9: Stock as a % of Monthly Cos | I9: 0.5
B10: Vehicles | D10: 5
B11: Machinery | D11: 10
B12: Equipment | D12: 7
B13: IT | D13: 3

Sheet Start Up Costs
B2: Dashboard
B3: VAT Registered | C3: ='General Dashboard'!D3 -> No | D3: Asset Type | E3: Length of Useful Life (Years) | F3: Depreciation | G3: Total Cost | I3: Start Up Cost
B4: Country | C4: ='Financial Model'!J11 -> England or Northern Ireland | D4: Land & Buildings | E4: ='General Dashboard'!D8 -> 100 | F4: =SUMIF($B$14:$F$34,D4,$F$14:$F$34)/E4 -> 3000 | G4: =SUMIF($B$14:$F$34,D4,$F$14:$F$34) -> 300000 | I4: =B12 -> Fixed Assets | J4: =SUM(F14:F34) -> 305000
B5: City | C5: ='Financial Model'!H11 -> London | D5: Fixtures and Fittings | E5: ='General Dashboard'!D9 -> 30 | F5: =SUMIF($B$14:$F$34,D5,$F$14:$F$34)/E5 -> 166.66667 | G5: =SUMIF($B$14:$F$34,D5,$F$14:$F$34) -> 5000
D6: Vehicles | E6: ='General Dashboard'!D10 -> 5 | F6: =SUMIF($B$14:$F$34,D6,$F$14:$F$34)/E6 -> 0 | G6: =SUMIF($B$14:$F$34,D6,$F$14:$F$34) -> 0 | I6: =I12 -> Fees And Taxes | J6: =SUM(L16:L34)+L13 -> 40650
B7: Cash Needed | C7: =SUM(J4:J9) -> 345650 | D7: Machinery | E7: ='General Dashboard'!D11 -> 10 | F7: =SUMIF($B$14:$F$34,D7,$F$14:$F$34)/E7 -> 0 | G7: =SUMIF($B$14:$F$34,D7,$F$14:$F$34) -> 0 | I7: =B37 -> Business Development
B8: Plus VAT | C8: =L14 -> 0 | D8: Equipment | E8: ='General Dashboard'!D12 -> 7 | F8: =SUMIF($B$14:$F$34,D8,$F$14:$F$34)/E8 -> 0 | G8: =SUMIF($B$14:$F$34,D8,$F$14:$F$34) -> 0 | I8: =I37 -> Working Capital | J8: =L44 -> 0
B9: Total Cash Needed | C9: =SUM(C7:C8) -> 345650 | D9: IT | E9: ='General Dashboard'!D13 -> 3 | F9: =SUMIF($B$14:$F$34,D9,$F$14:$F$34)/E9 -> 0 | G9: =SUMIF($B$14:$F$34,D9,$F$14:$F$34) -> 0 | I9: =I46 -> Covering Initial Losses | J9: =K47 -> 0
D10: Property Appreciation | E10: ='General Dashboard'!D5 -> 0.025 | F10: =G4*E10 -> 7500 | G10: =G4 -> 300000
B12: Fixed Assets | I12: Fees And Taxes
B13: Type of Purchase | C13: Description | D13: Cost | E13: Number | F13: Total Cost | I13: Land Transaction Taxes | L13: =IF(C14="Residential",IF(C4="England or Northern Ireland",'Land Transaction Tax Rates'!E56,IF(C4="Scotland",'Land Transaction Tax Rates'!J56,IF(C4="Wales",'Land Transaction Tax Rates'!O56,0))),IF(C4="England or Northern Ireland",'Land Transaction Tax Rates'!E11,IF(C4="Scotland",'Land Transaction Tax Rates'!J11,IF(C4="Wales",'Land Transaction Tax Rates'!O13,0)))) -> 20000
B14: =D4 -> Land & Buildings | C14: Residential | D14: ='Financial Model'!D2 -> 300000 | E14: 1 | F14: =E14*D14 -> 300000 | I14: VAT | L14: =IF(C3="Yes",SUM(F15:F34)*0.2+IF(C14="Commercial",F14*0.2,0)+SUMIF(K16:L34,"Plus VAT",L16:L34)+L39*0.2,0) -> 0
B15: Fixtures and Fittings | C15: Furnishing | D15: ='Financial Model'!D4 -> 5000 | E15: 1 | F15: =E15*D15 -> 5000 | I15: Description | J15: Notes | K15: VAT | L15: Cost
F16: =E16*D16 -> 0 | I16: Solicitor | J16: Conveyancing | K16: Not registered | L16: ='Land Transaction Tax Rates'!J62 -> 3000
F17: =E17*D17 -> 0 | I17: Finance Marketing | J17: Fundraising Fees | K17: Not registered | L17: ='Financial Model'!D6 -> 16400
F18: =E18*D18 -> 0 | I18: Launch | J18: Share offer costs | K18: Not registered | L18: ='Financial Model'!S13 -> 1250
F19: =E19*D19 -> 0
F20: =E20*D20 -> 0
F21: =E21*D21 -> 0
F22: =E22*D22 -> 0
F23: =E23*D23 -> 0
F24: =E24*D24 -> 0
F25: =E25*D25 -> 0
F26: =E26*D26 -> 0
F27: =E27*D27 -> 0
F28: =E28*D28 -> 0
F29: =E29*D29 -> 0
F30: =E30*D30 -> 0
... F34: =E34*D34 -> 0
B37: Business Development | I37: Working Capital
B38: Type of Cost | C38: Description | D38: Number | E38: Cost | F38: Total Cost | J38: Notes | L38: Cost
B39: Staff Time | C39: Staff Training | D39: 1 | E39: 0 | F39: =D39*E39 -> 0 | I39: Stock | J39: (How much stock will you need to carry?) | L39: 0
F40: =K78*J78 -> 0 | I40: Unpaid invoices to Customers | J40: Days of Credit | K40: Monthly Sales on Credit
F41: =K79*J79 -> 0 | J41: ='General Dashboard'!I7 -> 0 | K41: 0 | L41: =J41/30*K41 -> 0
F42: =K80*J80 -> 0 | I42: Unpaid bill from Suppliers | J42: Days of Credit | K42: Monthly Bills on Credit
F43: =K81*J81 -> 0 | J43: ='General Dashboard'!I8 -> 18 | L43: =J43/30*K43 -> 0
F44: =K82*J82 -> 0 | I44: Total Needed | L44: =(L39+L41-L43)*1.05 -> 0
F45: =K83*J83 -> 0
F46: =K84*J84 -> 0 | I46: Covering Initial Losses
F47: =K85*J85 -> 0 | I47: For now just estimate the amount and put it here | K47: 0
...

Sheet Financial Model
B1: Micro Equity
B2: Property value | D2: 300000 | G2: Investment Shares | I2: 1 | J2: Universal Credit | L2: 1 | Q2: Fundraising Fees | S2: =SUM(S3:S7) -> 0.05
B3: LBTT ADS, Conveyancing | D3: ='Start Up Costs'!L13+'Start Up Costs'!L16 -> 23000 | E3: Change numbers in yellow cells | G3: Share capital | I3: =D8*I2 -> 345650 | J3: Lower limit | L3: 6000 | Q3: Fundraiser | S3: 0.02
B4: Furnishing | D4: 5000 | E4: to test model | G4: Annual return | I4: ='Community Shares'!C4 -> 0.03 | J4: Deduction per month | L4: 4.35 | Q4: Project Manager | S4: 0.01
B5: Purchase cost | D5: =SUM(D2:D4) -> 328000 | G5: Inflation | I5: ='General Dashboard'!D4 -> 0.028 | J5: For each | L5: 250 | Q5: Project Director | S5: 0.005
B6: Fundrasing Fees | D6: =D5*S2 -> 16400 | G6: Property Appreciation | I6: ='General Dashboard'!D5 -> 0.025 | J6: Upper Limit | L6: 16000 | Q6: Affiliation Fees | S6: 0.01
B7: Share Offer Costs | D7: =S13 -> 1250 | E7: City | F7: Bedrooms | G7: Corporation Tax | I7: ='General Dashboard'!G5 -> 0.19 | J7: Bank Saving Interest | L7: 0.03 | Q7: Card Fees | S7: 0.005
B8: Fund to raise | D8: =SUM(D5:D7) -> 345650 | E8: ='Start Up Costs'!C5 -> London | F8: 2 | J8: Bank Loan Interest | L8: 0.05 | Q8: Rent receipt Fees
B9: Housing Benefit Rent | D9: =HLOOKUP(E8,H11:H16,F8+2)*52 -> 18548.92 | E9: of rent paid | F9: ="(£"&D10*C23&") pa" -> (£1854.892) pa | G9: Local Housing Allowance Rates | Q9: Letting Agent | S9: 0.07
B10: Maintenance fund | D10: 0.1 | E10: of rent | F10: ="(£"&D11*C23&") pa" -> (£927.446) pa | G10: (Housing Benefits) | I10: https://lha-direct.voa.gov.uk/ | Q10: Project Manager | S10: 0.05
B11: Home Share Purchase | D11: 0.05 | E11: of rent | F11: ="(£"&D12*C23&") pa" -> (£1854.892) pa | H11: London | I11: Country: | J11: England or Northern Ireland | Q11: Project Director | S11: 0.01
B12: Gift points from friends | D12: 0.1 | E12: of rent paid | F12: ="(£"&D12*C23&") pa" -> (£1854.892) pa | G12: Bedrooms | H12: Rent per week | Q12: Share offer costs
B13: Property mgmt + Proj Fees | D13: =S9+S10+S11 -> 0.13 | E13: of prop. value | F13: ="(£"&D14*D5&") pa" -> (£1640) pa | G13: 1 | H13: 298.15 | Q13: Lower limit | S13: 1250
B14: Property maint. | D14: 0.005 | E14: of prop. value | F14: ="(£"&D15*D5&") pa" -> (£656) pa | G14: 2 | H14: 356.71
B15: Property insurance | D15: 0.002 | G15: 3 | H15: 448.71
B16: Major Repairs | D16: 0.15 | E16: ="£"&D16*D2&" every" -> £45000 every | F16: 10 | G16: 4 | H16: 604.11 | Q16: https://www.stampdutycalculator.org.uk/stamp-duty-scotland.htm
B17: Maint. work done by tenant | D17: 0.5 | F17: ="Up to "&D16/F16*100&"%" -> Up to 1.5% | G17: of property value per year retained in Maintenance Fund | M17: https://www.elpamsolicitors.co.uk/fees/property-estate-agency-conveyancing/buying-a-property-fees-calculator/
B18: Major Repair done by tenant | D18: =D17 -> 0.5
A19: Financial Model | C19: Anticipated income | E19: Income Actual received | H19: Actual Paid from Current Account | O19: Start up costs | P19: Annual Profit | V19: Maintenance Fund | AC19: Major Repairs Fund | AJ19: Current Account | AM19: Home Shares Acquired | AP19: Gift Points Acquired | AS19: Tenant Shares Projection
B20: Property Market Value | C20: Rent (Housing Benefit) per year | D20: Rent reduction | E20: Rent received | F20: Bank Interest | G20: Total income | H20: Property Insurance | I20: Property Mgmt | J20: Maint. work to pay from maint. fund | K20: Maint. Work paid from current account | L20: Bank Loan Interest | M20: Investors Share return | N20: Totla Expense | O20: Prop. Purch. fundraising & launch fees | P20: Gross Profit | Q20: Corp. Tax | R20: Nett Profit after tax | S20: Home Share purchase by tenant | T20: Gift Points purchase by friends | U20: Cash at Bank | V20: Allocate into Maint. Fund | W20: Interest paid into Maint. Fund | X20: Budgeted Property Maint. | Y20: Maint. work done by tenant | Z20: Maint. work to pay from maint. fund | AA20: Maint. Work paid from current account | AB20: Accum. Maint. Fund | AC20: Trans. Fr. C.A. into Maint.Fund | AD20: Interest paid into Maint. Fund | AE20: Budgeted Major Repairs | AF20: Major Repairs done by tenant | AG20: Repairs to pay from Maint. Fund | AH20: Repairs paid from current account | AI20: Accum. Major Repair Fund | AJ20: Transfer to Current Account | AK20: Paid Out Current Account | AL20: Accum. Current Account | AM20: Hone Share purchase by tenant | AN20: Home Share Apprec. per year | AO20: Accum. Home Shares | AP20: Gift points from freinds | AQ20: Gift Points Apprec. per year | AR20: Accum. Gift Points | AS20: Accum. Maint. + Major Rep Fund (after each 10 yr) | AT20: Projected Tenant Shares | AU20: Projected Tenant share of property | AV20: Original investor share holding | AW20: Projected investor share holding | AX20: Universal Credit Deduction
A21: Year | F21: =L7 -> 0.03 | H21: =D15 -> 0.002 | I21: =D13 -> 0.13 | L21: =L8 -> 0.05 | M21: =I4 -> 0.03 | N21: =J4 -> Deduction per month | U21: =D8 -> 345650 | V21: =D10 -> 0.1 | W21: =L7 -> 0.03 | X21: =D14 -> 0.005 | Y21: =D17 -> 0.5 | AC21: =D16/F16 -> 0.015 | AD21: =L7 -> 0.03 | AF21: =D18 -> 0.5 | AM21: =D11 -> 0.05 | AN21: =I4 -> 0.03 | AP21: =D12 -> 0.1 | AQ21: =I4 -> 0.03 | AY21: Year
A22: 0 | B22: =D2 -> 300000 | O22: =D5 -> 328000 | U22: =U21-O22 -> 17650 | AV22: =D8 -> 345650
A23: 1 | B23: =B22+D4 -> 305000 | C23: =D9 -> 18548.92 | D23: =AX21 -> 0 | E23: =C23-D23 -> 18548.92 | F23: 0 | G23: =E23+F23 -> 18548.92 | H23: =B23*$D$15 -> 610 | I23: =E23*$D$13 -> 2411.3596 | J23: =Z23+AG23 -> 762.5 | K23: =AA23+AH23 -> 0 | L23: =IF(U21<0,-U21*$L$21,0) -> 0 | M23: =AV21*$M$21 -> 0 | N23: =SUM(H23:M23) -> 3783.8596 | O23: =D6+D7 -> 17650 | P23: =G23-N23-O23 -> -2884.9396 | Q23: =Tax!H17 -> 0 | R23: =P23+Q23 -> -2884.9396 | S23: =AM23 -> 927.446 | T23: =AP23 -> 1854.892 | U23: =U22+R23+S23+T23 -> 17547.398 | V23: =E23*V$21 -> 1854.892 | W23: =AB22*F$21 -> 0 | X23: =B23*$D$14 -> 1525 | Y23: =X23*$Y$21 -> 762.5 | Z23: =IF(X23-Y23<V23+W23+AB21,X23-Y23,V23+W23+AB21) -> 762.5 | AA23: =X23-Y23-Z23 -> 0 | AB23: =V23+W23-Z23+AB22 -> 1092.392 | AC23: =IF(AL21>0,IF(AL21>B23*$AC$21,B23*$AC$21,AL21),0) -> 0 | AD23: =AI22*M$21 -> 0 | AE23: =IF((A23/$F$16-INT(A23/$F$16))=0,B23*$D$16,0) -> 0 | AF23: =AE23*$AF$21 -> 0 | AG23: =IF(AE23-AF23>AI21+AC23,AI21+AC23,AE23-AF23) -> 0 | AH23: =AE23-AF23-AG23 -> 0 | AI23: =AC23+AD23-AG23+AI22 -> 0 | AJ23: =R23 -> -2884.9396 | AK23: =AA23+AH23 -> 0 | AL23: =AL22+AJ23 -> -2884.9396 | AM23: =C23*$D$11 -> 927.446 | AN23: =AO21*AN$21 -> 0 | AO23: =AM23+AN23+AO21 -> 927.446 | AP23: =C23*$D$12 -> 1854.892 | AQ23: =AR21*AQ$21 -> 0 | AR23: =AP23+AQ23+AR21 -> 1854.892 | AS23: =IF((A23/$F$16-INT(A23/$F$16))=0,AB23+AI23,AB23) -> 1092.392 | AT23: =AO23+AR23+AS23 -> 3874.73 | AU23: =AT23/B23 -> 0.012704033 | AV23: =AV22 -> 345650 | AW23: =$D$5-AT23 -> 324125.27 | AX23: =IF(AO23>$L$6,0,IF(AO23>$L$3,(AO23-$L$3)/$L$5*$L$4*12,0)) -> 0 | AY23: 1
A24: =A23+1 -> 2 | B24: =B23*(1+$I$6) -> 312625 | C24: =C23*(1+$I$5) -> 19068.29 | D24: =AX23 -> 0 | E24: =C24-D24 -> 19068.29 | F24: =U23*$F$21 -> 526.42195 | G24: =E24+F24 -> 19594.712 | H24: =B24*$D$15 -> 625.25 | I24: =E24*$D$13 -> 2478.8777 | J24: =Z24+AG24 -> 781.5625 | K24: =AA24+AH24 -> 0 | L24: =IF(U22<0,-U22*$L$21,0) -> 0 | M24: =AV22*$M$21 -> 10369.5 | N24: =SUM(H24:M24) -> 14255.19 | P24: =G24-N24-O24 -> 5339.5215 | Q24: =Tax!I17 -> 0 | R24: =P24+Q24 -> 5339.5215 | S24: =AM24 -> 953.41449 | T24: =AP24 -> 1906.829 | U24: =U23+G24-N24-O24+Q24+S24+T24 -> 25747.163 | V24: =E24*V$21 -> 1906.829 | W24: =AB23*F$21 -> 32.77176 | X24: =B24*$D$14 -> 1563.125 | Y24: =X24*$Y$21 -> 781.5625 | Z24: =IF(X24-Y24<V24+W24+AB23,X24-Y24,V24+W24+AB23) -> 781.5625 | AA24: =X24-Y24-Z24 -> 0 | AB24: =V24+W24-Z24+AB23 -> 2250.4302 | AC24: =IF(AL23>0,IF(AL23>B24*$AC$21,B24*$AC$21,AL23),0) -> 0 | AD24: =AI23*M$21 -> 0 | AE24: =IF((A24/$F$16-INT(A24/$F$16))=0,B24*$D$16,0) -> 0 | AF24: =AE24*$AF$21 -> 0 | AG24: =IF(AE24-AF24>AI23+AC24,AI23+AC24,AE24-AF24) -> 0 | AH24: =AE24-AF24-AG24 -> 0 | AI24: =AC24+AD24-AG24+AI23 -> 0 | AJ24: =R24 -> 5339.5215 | AK24: =AA24+AH24 -> 0 | AL24: =AL23+AJ24 -> 2454.5819 | AM24: =C24*$D$11 -> 953.41449 | AN24: =AO23*AN$21 -> 27.82338 | AO24: =AM24+AN24+AO23 -> 1908.6839 | AP24: =C24*$D$12 -> 1906.829 | AQ24: =AR23*AQ$21 -> 55.64676 | AR24: =AP24+AQ24+AR23 -> 3817.3677 | AS24: =IF((A24/$F$16-INT(A24/$F$16))=0,AB24+AI24,AB24) -> 2250.4302 | AT24: =AO24+AR24+AS24 -> 7976.4818 | AU24: =AT24/B24 -> 0.025514536 | AV24: =AV23 -> 345650 | AW24: =$D$5-AT24 -> 320023.52 | AX24: =IF(AO24>$L$6,0,IF(AO24>$L$3,(AO24-$L$3)/$L$5*$L$4*12,0)) -> 0 | AY24: =AY23+1 -> 2
A25: =A24+1 -> 3 | B25: =B24*(1+$I$6) -> 320440.62 | C25: =C24*(1+$I$5) -> 19602.202 | D25: =AX24 -> 0 | E25: =C25-D25 -> 19602.202 | F25: =U24*$F$21 -> 772.4149 | G25: =E25+F25 -> 20374.617 | H25: =B25*$D$15 -> 640.88125 | I25: =E25*$D$13 -> 2548.2862 | J25: =Z25+AG25 -> 801.10156 | K25: =AA25+AH25 -> 0 | L25: =IF(U23<0,-U23*$L$21,0) -> 0 | M25: =AV23*$M$21 -> 10369.5 | N25: =SUM(H25:M25) -> 14359.769 | P25: =G25-N25-O25 -> 6014.8477 | Q25: =Tax!J17 -> 0 | R25: =P25+Q25 -> 6014.8477 | S25: =AM25 -> 980.11009 | T25: =AP25 -> 1960.2202 | U25: =U24+G25-N25-O25+Q25+S25+T25 -> 34702.341 | V25: =E25*V$21 -> 1960.2202 | W25: =AB24*F$21 -> 67.512907 | X25: =B25*$D$14 -> 1602.2031 | Y25: =X25*$Y$21 -> 801.10156 | Z25: =IF(X25-Y25<V25+W25+AB24,X25-Y25,V25+W25+AB24) -> 801.10156 | AA25: =X25-Y25-Z25 -> 0 | AB25: =V25+W25-Z25+AB24 -> 3477.0618 | AC25: =IF(AL24>0,IF(AL24>B25*$AC$21,B25*$AC$21,AL24),0) -> 2454.5819 | AD25: =AI24*M$21 -> 0 | AE25: =IF((A25/$F$16-INT(A25/$F$16))=0,B25*$D$16,0) -> 0 | AF25: =AE25*$AF$21 -> 0 | AG25: =IF(AE25-AF25>AI24+AC25,AI24+AC25,AE25-AF25) -> 0 | AH25: =AE25-AF25-AG25 -> 0 | AI25: =AC25+AD25-AG25+AI24 -> 2454.5819 | AJ25: =R25 -> 6014.8477 | AK25: =AA25+AH25 -> 0 | AL25: =AL24+AJ25 -> 8469.4297 | AM25: =C25*$D$11 -> 980.11009 | AN25: =AO24*AN$21 -> 57.260516 | AO25: =AM25+AN25+AO24 -> 2946.0545 | AP25: =C25*$D$12 -> 1960.2202 | AQ25: =AR24*AQ$21 -> 114.52103 | AR25: =AP25+AQ25+AR24 -> 5892.109 | AS25: =IF((A25/$F$16-INT(A25/$F$16))=0,AB25+AI25,AB25) -> 3477.0618 | AT25: =AO25+AR25+AS25 -> 12315.225 | AU25: =AT25/B25 -> 0.038432159 | AV25: =AV24 -> 345650 | AW25: =$D$5-AT25 -> 315684.77 | AX25: =IF(AO25>$L$6,0,IF(AO25>$L$3,(AO25-$L$3)/$L$5*$L$4*12,0)) -> 0 | AY25: =AY24+1 -> 3
A26: =A25+1 -> 4 | B26: =B25*(1+$I$6) -> 328451.64 | C26: =C25*(1+$I$5) -> 20151.064 | D26: =AX25 -> 0 | E26: =C26-D26 -> 20151.064 | F26: =U25*$F$21 -> 1041.0702 | G26: =E26+F26 -> 21192.134 | H26: =B26*$D$15 -> 656.90328 | I26: =E26*$D$13 -> 2619.6383 | J26: =Z26+AG26 -> 821.1291 | K26: =AA26+AH26 -> 0 | L26: =IF(U24<0,-U24*$L$21,0) -> 0 | M26: =AV24*$M$21 -> 10369.5 | N26: =SUM(H26:M26) -> 14467.171 | P26: =G26-N26-O26 -> 6724.9631 | Q26: =Tax!K17 -> 0 | R26: =P26+Q26 -> 6724.9631 | S26: =AM26 -> 1007.5532 | T26: =AP26 -> 2015.1064 | U26: =U25+G26-N26-O26+Q26+S26+T26 -> 44449.964 | V26: =E26*V$21 -> 2015.1064 | W26: =AB25*F$21 -> 104.31185 | X26: =B26*$D$14 -> 1642.2582 | Y26: =X26*$Y$21 -> 821.1291 | Z26: =IF(X26-Y26<V26+W26+AB25,X26-Y26,V26+W26+AB25) -> 821.1291 | AA26: =X26-Y26-Z26 -> 0 | AB26: =V26+W26-Z26+AB25 -> 4775.3509 | AC26: =IF(AL25>0,IF(AL25>B26*$AC$21,B26*$AC$21,AL25),0) -> 4926.7746 | AD26: =AI25*M$21 -> 73.637458 | AE26: =IF((A26/$F$16-INT(A26/$F$16))=0,B26*$D$16,0) -> 0 | AF26: =AE26*$AF$21 -> 0 | AG26: =IF(AE26-AF26>AI25+AC26,AI25+AC26,AE26-AF26) -> 0 | AH26: =AE26-AF26-AG26 -> 0 | AI26: =AC26+AD26-AG26+AI25 -> 7454.994 | AJ26: =R26 -> 6724.9631 | AK26: =AA26+AH26 -> 0 | AL26: =AL25+AJ26 -> 15194.393 | AM26: =C26*$D$11 -> 1007.5532 | AN26: =AO25*AN$21 -> 88.381634 | AO26: =AM26+AN26+AO25 -> 4041.9893 | AP26: =C26*$D$12 -> 2015.1064 | AQ26: =AR25*AQ$21 -> 176.76327 | AR26: =AP26+AQ26+AR25 -> 8083.9786 | AS26: =IF((A26/$F$16-INT(A26/$F$16))=0,AB26+AI26,AB26) -> 4775.3509 | AT26: =AO26+AR26+AS26 -> 16901.319 | AU26: =AT26/B26 -> 0.051457556 | AV26: =AV25 -> 345650 | AW26: =$D$5-AT26 -> 311098.68 | AX26: =IF(AO26>$L$6,0,IF(AO26>$L$3,(AO26-$L$3)/$L$5*$L$4*12,0)) -> 0 | AY26: =AY25+1 -> 4
A27: =A26+1 -> 5 | B27: =B26*(1+$I$6) -> 336662.93 | C27: =C26*(1+$I$5) -> 20715.293 | D27: =AX26 -> 0 | E27: =C27-D27 -> 20715.293 | F27: =U26*$F$21 -> 1333.4989 | G27: =E27+F27 -> 22048.792 | H27: =B27*$D$15 -> 673.32586 | I27: =E27*$D$13 -> 2692.9881 | J27: =Z27+AG27 -> 841.65733 | K27: =AA27+AH27 -> 0 | L27: =IF(U25<0,-U25*$L$21,0) -> 0 | M27: =AV25*$M$21 -> 10369.5 | N27: =SUM(H27:M27) -> 14577.471 | P27: =G27-N27-O27 -> 7471.3209 | Q27: =Tax!L17 -> -348.15227 | R27: =P27+Q27 -> 7123.1686 | S27: =AM27 -> 1035.7647 | T27: =AP27 -> 2071.5293 | U27: =U26+G27-N27-O27+Q27+S27+T27 -> 54680.427 | V27: =E27*V$21 -> 2071.5293 | W27: =AB26*F$21 -> 143.26053 | X27: =B27*$D$14 -> 1683.3147 | Y27: =X27*$Y$21 -> 841.65733 | Z27: =IF(X27-Y27<V27+W27+AB26,X27-Y27,V27+W27+AB26) -> 841.65733 | AA27: =X27-Y27-Z27 -> 0 | AB27: =V27+W27-Z27+AB26 -> 6148.4834 | AC27: =IF(AL26>0,IF(AL26>B27*$AC$21,B27*$AC$21,AL26),0) -> 5049.944 | AD27: =AI26*M$21 -> 223.64982 | AE27: =IF((A27/$F$16-INT(A27/$F$16))=0,B27*$D$16,0) -> 0 | AF27: =AE27*$AF$21 -> 0 | AG27: =IF(AE27-AF27>AI26+AC27,AI26+AC27,AE27-AF27) -> 0 | AH27: =AE27-AF27-AG27 -> 0 | AI27: =AC27+AD27-AG27+AI26 -> 12728.588 | AJ27: =R27 -> 7123.1686 | AK27: =AA27+AH27 -> 0 | AL27: =AL26+AJ27 -> 22317.561 | AM27: =C27*$D$11 -> 1035.7647 | AN27: =AO26*AN$21 -> 121.25968 | AO27: =AM27+AN27+AO26 -> 5199.0136 | AP27: =C27*$D$12 -> 2071.5293 | AQ27: =AR26*AQ$21 -> 242.51936 | AR27: =AP27+AQ27+AR26 -> 10398.027 | AS27: =IF((A27/$F$16-INT(A27/$F$16))=0,AB27+AI27,AB27) -> 6148.4834 | AT27: =AO27+AR27+AS27 -> 21745.524 | AU27: =AT27/B27 -> 0.064591383 | AV27: =AV26 -> 345650 | AW27: =$D$5-AT27 -> 306254.48 | AX27: =IF(AO27>$L$6,0,IF(AO27>$L$3,(AO27-$L$3)/$L$5*$L$4*12,0)) -> 0 | AY27: =AY26+1 -> 5
A28: =A27+1 -> 6 | B28: =B27*(1+$I$6) -> 345079.5 | C28: =C27*(1+$I$5) -> 21295.322 | D28: =AX27 -> 0 | E28: =C28-D28 -> 21295.322 | F28: =U27*$F$21 -> 1640.4128 | G28: =E28+F28 -> 22935.734 | H28: =B28*$D$15 -> 690.15901 | I28: =E28*$D$13 -> 2768.3918 | J28: =Z28+AG28 -> 862.69876 | K28: =AA28+AH28 -> 0 | L28: =IF(U26<0,-U26*$L$21,0) -> 0 | M28: =AV26*$M$21 -> 10369.5 | N28: =SUM(H28:M28) -> 14690.75 | P28: =G28-N28-O28 -> 8244.9847 | Q28: =Tax!M17 -> -964.88044 | R28: =P28+Q28 -> 7280.1043 | S28: =AM28 -> 1064.7661 | T28: =AP28 -> 2129.5322 | U28: =U27+G28-N28-O28+Q28+S28+T28 -> 65154.829 | V28: =E28*V$21 -> 2129.5322 | W28: =AB27*F$21 -> 184.4545 | X28: =B28*$D$14 -> 1725.3975 | Y28: =X28*$Y$21 -> 862.69876 | Z28: =IF(X28-Y28<V28+W28+AB27,X28-Y28,V28+W28+AB27) -> 862.69876 | AA28: =X28-Y28-Z28 -> 0 | AB28: =V28+W28-Z28+AB27 -> 7599.7713 | AC28: =IF(AL27>0,IF(AL27>B28*$AC$21,B28*$AC$21,AL27),0) -> 5176.1926 | AD28: =AI27*M$21 -> 381.85763 | AE28: =IF((A28/$F$16-INT(A28/$F$16))=0,B28*$D$16,0) -> 0 | AF28: =AE28*$AF$21 -> 0 | AG28: =IF(AE28-AF28>AI27+AC28,AI27+AC28,AE28-AF28) -> 0 | AH28: =AE28-AF28-AG28 -> 0 | AI28: =AC28+AD28-AG28+AI27 -> 18286.638 | AJ28: =R28 -> 7280.1043 | AK28: =AA28+AH28 -> 0 | AL28: =AL27+AJ28 -> 29597.666 | AM28: =C28*$D$11 -> 1064.7661 | AN28: =AO27*AN$21 -> 155.97041 | AO28: =AM28+AN28+AO27 -> 6419.7501 | AP28: =C28*$D$12 -> 2129.5322 | AQ28: =AR27*AQ$21 -> 311.94082 | AR28: =AP28+AQ28+AR27 -> 12839.5 | AS28: =IF((A28/$F$16-INT(A28/$F$16))=0,AB28+AI28,AB28) -> 7599.7713 | AT28: =AO28+AR28+AS28 -> 26859.022 | AU28: =AT28/B28 -> 0.0778343 | AV28: =AV27 -> 345650 | AW28: =$D$5-AT28 -> 301140.98 | AX28: =IF(AO28>$L$6,0,IF(AO28>$L$3,(AO28-$L$3)/$L$5*$L$4*12,0)) -> 87.643824 | AY28: =AY27+1 -> 6
A29: =A28+1 -> 7 | B29: =B28*(1+$I$6) -> 353706.49 | C29: =C28*(1+$I$5) -> 21891.591 | D29: =AX28 -> 87.643824 | E29: =C29-D29 -> 21803.947 | F29: =U28*$F$21 -> 1954.6449 | G29: =E29+F29 -> 23758.592 | H29: =B29*$D$15 -> 707.41299 | I29: =E29*$D$13 -> 2834.5131 | J29: =Z29+AG29 -> 884.26623 | K29: =AA29+AH29 -> 0 | L29: =IF(U27<0,-U27*$L$21,0) -> 0 | M29: =AV27*$M$21 -> 10369.5 | N29: =SUM(H29:M29) -> 14795.692 | P29: =G29-N29-O29 -> 8962.8993 | Q29: =Tax!N17 -> -1101.2842 | R29: =P29+Q29 -> 7861.6151 | S29: =AM29 -> 1094.5795 | T29: =AP29 -> 2189.1591 | U29: =U28+G29-N29-O29+Q29+S29+T29 -> 76300.183 | V29: =E29*V$21 -> 2180.3947 | W29: =AB28*F$21 -> 227.99314 | X29: =B29*$D$14 -> 1768.5325 | Y29: =X29*$Y$21 -> 884.26623 | Z29: =IF(X29-Y29<V29+W29+AB28,X29-Y29,V29+W29+AB28) -> 884.26623 | AA29: =X29-Y29-Z29 -> 0 | AB29: =V29+W29-Z29+AB28 -> 9123.8929 | AC29: =IF(AL28>0,IF(AL28>B29*$AC$21,B29*$AC$21,AL28),0) -> 5305.5974 | AD29: =AI28*M$21 -> 548.59914 | AE29: =IF((A29/$F$16-INT(A29/$F$16))=0,B29*$D$16,0) -> 0 | AF29: =AE29*$AF$21 -> 0 | AG29: =IF(AE29-AF29>AI28+AC29,AI28+AC29,AE29-AF29) -> 0 | AH29: =AE29-AF29-AG29 -> 0 | AI29: =AC29+AD29-AG29+AI28 -> 24140.835 | AJ29: =R29 -> 7861.6151 | AK29: =AA29+AH29 -> 0 | AL29: =AL28+AJ29 -> 37459.281 | AM29: =C29*$D$11 -> 1094.5795 | AN29: =AO28*AN$21 -> 192.5925 | AO29: =AM29+AN29+AO28 -> 7706.9221 | AP29: =C29*$D$12 -> 2189.1591 | AQ29: =AR28*AQ$21 -> 385.18501 | AR29: =AP29+AQ29+AR28 -> 15413.844 | AS29: =IF((A29/$F$16-INT(A29/$F$16))=0,AB29+AI29,AB29) -> 9123.8929 | AT29: =AO29+AR29+AS29 -> 32244.659 | AU29: =AT29/B29 -> 0.091162192 | AV29: =AV28 -> 345650 | AW29: =$D$5-AT29 -> 295755.34 | AX29: =IF(AO29>$L$6,0,IF(AO29>$L$3,(AO29-$L$3)/$L$5*$L$4*12,0)) -> 356.40534 | AY29: =AY28+1 -> 7
A30: =A29+1 -> 8 | B30: =B29*(1+$I$6) -> 362549.15 | C30: =C29*(1+$I$5) -> 22504.555 | D30: =AX29 -> 356.40534 | E30: =C30-D30 -> 22148.15 | F30: =U29*$F$21 -> 2289.0055 | G30: =E30+F30 -> 24437.155 | H30: =B30*$D$15 -> 725.09831 | I30: =E30*$D$13 -> 2879.2595 | J30: =Z30+AG30 -> 906.37289 | K30: =AA30+AH30 -> 0 | L30: =IF(U28<0,-U28*$L$21,0) -> 0 | M30: =AV28*$M$21 -> 10369.5 | N30: =SUM(H30:M30) -> 14880.231 | P30: =G30-N30-O30 -> 9556.9245 | Q30: =Tax!O17 -> -1214.149 | R30: =P30+Q30 -> 8342.7755 | S30: =AM30 -> 1125.2278 | T30: =AP30 -> 2250.4555 | U30: =U29+G30-N30-O30+Q30+S30+T30 -> 88018.642 | V30: =E30*V$21 -> 2214.815 | W30: =AB29*F$21 -> 273.71679 | X30: =B30*$D$14 -> 1812.7458 | Y30: =X30*$Y$21 -> 906.37289 | Z30: =IF(X30-Y30<V30+W30+AB29,X30-Y30,V30+W30+AB29) -> 906.37289 | AA30: =X30-Y30-Z30 -> 0 | AB30: =V30+W30-Z30+AB29 -> 10706.052 | AC30: =IF(AL29>0,IF(AL29>B30*$AC$21,B30*$AC$21,AL29),0) -> 5438.2373 | AD30: =AI29*M$21 -> 724.22504 | AE30: =IF((A30/$F$16-INT(A30/$F$16))=0,B30*$D$16,0) -> 0 | AF30: =AE30*$AF$21 -> 0 | AG30: =IF(AE30-AF30>AI29+AC30,AI29+AC30,AE30-AF30) -> 0 | AH30: =AE30-AF30-AG30 -> 0 | AI30: =AC30+AD30-AG30+AI29 -> 30303.297 | AJ30: =R30 -> 8342.7755 | AK30: =AA30+AH30 -> 0 | AL30: =AL29+AJ30 -> 45802.056 | AM30: =C30*$D$11 -> 1125.2278 | AN30: =AO29*AN$21 -> 231.20766 | AO30: =AM30+AN30+AO29 -> 9063.3576 | AP30: =C30*$D$12 -> 2250.4555 | AQ30: =AR29*AQ$21 -> 462.41533 | AR30: =AP30+AQ30+AR29 -> 18126.715 | AS30: =IF((A30/$F$16-INT(A30/$F$16))=0,AB30+AI30,AB30) -> 10706.052 | AT30: =AO30+AR30+AS30 -> 37896.124 | AU30: =AT30/B30 -> 0.10452686 | AV30: =AV29 -> 345650 | AW30: =$D$5-AT30 -> 290103.88 | AX30: =IF(AO30>$L$6,0,IF(AO30>$L$3,(AO30-$L$3)/$L$5*$L$4*12,0)) -> 639.62906 | AY30: =AY29+1 -> 8
A31: =A30+1 -> 9 | B31: =B30*(1+$I$6) -> 371612.88 | C31: =C30*(1+$I$5) -> 23134.683 | D31: =AX30 -> 639.62906 | E31: =C31-D31 -> 22495.054 | F31: =U30*$F$21 -> 2640.5593 | G31: =E31+F31 -> 25135.613 | H31: =B31*$D$15 -> 743.22577 | I31: =E31*$D$13 -> 2924.357 | J31: =Z31+AG31 -> 929.03221 | K31: =AA31+AH31 -> 0 | L31: =IF(U29<0,-U29*$L$21,0) -> 0 | M31: =AV29*$M$21 -> 10369.5 | N31: =SUM(H31:M31) -> 14966.115 | P31: =G31-N31-O31 -> 10169.498 | Q31: =Tax!P17 -> -1330.5379 | R31: =P31+Q31 -> 8838.9599 | S31: =AM31 -> 1156.7341 | T31: =AP31 -> 2313.4683 | U31: =U30+G31-N31-O31+Q31+S31+T31 -> 100327.8 | V31: =E31*V$21 -> 2249.5054 | W31: =AB30*F$21 -> 321.18155 | X31: =B31*$D$14 -> 1858.0644 | Y31: =X31*$Y$21 -> 929.03221 | Z31: =IF(X31-Y31<V31+W31+AB30,X31-Y31,V31+W31+AB30) -> 929.03221 | AA31: =X31-Y31-Z31 -> 0 | AB31: =V31+W31-Z31+AB30 -> 12347.706 | AC31: =IF(AL30>0,IF(AL30>B31*$AC$21,B31*$AC$21,AL30),0) -> 5574.1933 | AD31: =AI30*M$21 -> 909.09891 | AE31: =IF((A31/$F$16-INT(A31/$F$16))=0,B31*$D$16,0) -> 0 | AF31: =AE31*$AF$21 -> 0 | AG31: =IF(AE31-AF31>AI30+AC31,AI30+AC31,AE31-AF31) -> 0 | AH31: =AE31-AF31-AG31 -> 0 | AI31: =AC31+AD31-AG31+AI30 -> 36786.589 | AJ31: =R31 -> 8838.9599 | AK31: =AA31+AH31 -> 0 | AL31: =AL30+AJ31 -> 54641.016 | AM31: =C31*$D$11 -> 1156.7341 | AN31: =AO30*AN$21 -> 271.90073 | AO31: =AM31+AN31+AO30 -> 10491.992 | AP31: =C31*$D$12 -> 2313.4683 | AQ31: =AR30*AQ$21 -> 543.80145 | AR31: =AP31+AQ31+AR30 -> 20983.985 | AS31: =IF((A31/$F$16-INT(A31/$F$16))=0,AB31+AI31,AB31) -> 12347.706 | AT31: =AO31+AR31+AS31 -> 43823.684 | AU31: =AT31/B31 -> 0.11792832 | AV31: =AV30 -> 345650 | AW31: =$D$5-AT31 -> 284176.32 | AX31: =IF(AO31>$L$6,0,IF(AO31>$L$3,(AO31-$L$3)/$L$5*$L$4*12,0)) -> 937.92802 | AY31: =AY30+1 -> 9
A32: =A31+1 -> 10 | B32: =B31*(1+$I$6) -> 380903.21 | C32: =C31*(1+$I$5) -> 23782.454 | D32: =AX31 -> 937.92802 | E32: =C32-D32 -> 22844.526 | F32: =U31*$F$21 -> 3009.8341 | G32: =E32+F32 -> 25854.36 | H32: =B32*$D$15 -> 761.80641 | I32: =E32*$D$13 -> 2969.7883 | J32: =Z32+AG32 -> 29519.998 | K32: =AA32+AH32 -> 0 | L32: =IF(U30<0,-U30*$L$21,0) -> 0 | M32: =AV30*$M$21 -> 10369.5 | N32: =SUM(H32:M32) -> 43621.093 | P32: =G32-N32-O32 -> -17766.733 | Q32: =Tax!Q17 -> 0 | R32: =P32+Q32 -> -17766.733 | S32: =AM32 -> 1189.1227 | T32: =AP32 -> 2378.2454 | U32: =U31+G32-N32-O32+Q32+S32+T32 -> 86128.439 | V32: =E32*V$21 -> 2284.4526 | W32: =AB31*F$21 -> 370.43119 | X32: =B32*$D$14 -> 1904.516 | Y32: =X32*$Y$21 -> 952.25801 | Z32: =IF(X32-Y32<V32+W32+AB31,X32-Y32,V32+W32+AB31) -> 952.25801 | AA32: =X32-Y32-Z32 -> 0 | AB32: =V32+W32-Z32+AB31 -> 14050.332 | AC32: =IF(AL31>0,IF(AL31>B32*$AC$21,B32*$AC$21,AL31),0) -> 5713.5481 | AD32: =AI31*M$21 -> 1103.5977 | AE32: =IF((A32/$F$16-INT(A32/$F$16))=0,B32*$D$16,0) -> 57135.481 | AF32: =AE32*$AF$21 -> 28567.74 | AG32: =IF(AE32-AF32>AI31+AC32,AI31+AC32,AE32-AF32) -> 28567.74 | AH32: =AE32-AF32-AG32 -> 0 | AI32: =AC32+AD32-AG32+AI31 -> 15035.994 | AJ32: =R32 -> -17766.733 | AK32: =AA32+AH32 -> 0 | AL32: =AL31+AJ32 -> 36874.283 | AM32: =C32*$D$11 -> 1189.1227 | AN32: =AO31*AN$21 -> 314.75977 | AO32: =AM32+AN32+AO31 -> 11995.875 | AP32: =C32*$D$12 -> 2378.2454 | AQ32: =AR31*AQ$21 -> 629.51955 | AR32: =AP32+AQ32+AR31 -> 23991.75 | AS32: =IF((A32/$F$16-INT(A32/$F$16))=0,AB32+AI32,AB32) -> 29086.327 | AT32: =AO32+AR32+AS32 -> 65073.951 | AU32: =AT32/B32 -> 0.17084117 | AV32: =AV31 -> 345650 | AW32: =$D$5-AT32 -> 262926.05 | AX32: =IF(AO32>$L$6,0,IF(AO32>$L$3,(AO32-$L$3)/$L$5*$L$4*12,0)) -> 1251.9387 | AY32: =AY31+1 -> 10 | AZ32: 2.4
A33: =A32+1 -> 11 | B33: =B32*(1+$I$6) -> 390425.79 | C33: =C32*(1+$I$5) -> 24448.362 | D33: =AX32 -> 1251.9387 | E33: =C33-D33 -> 23196.424 | F33: =U32*$F$21 -> 2583.8532 | G33: =E33+F33 -> 25780.277 | H33: =B33*$D$15 -> 780.85157 | I33: =E33*$D$13 -> 3015.5351 | J33: =Z33+AG33 -> 976.06446 | K33: =AA33+AH33 -> 0 | L33: =IF(U31<0,-U31*$L$21,0) -> 0 | M33: =AV31*$M$21 -> 10369.5 | N33: =SUM(H33:M33) -> 15141.951 | P33: =G33-N33-O33 -> 10638.326 | Q33: =Tax!R17 -> 0 | R33: =P33+Q33 -> 10638.326 | S33: =AM33 -> 1222.4181 | T33: =AP33 -> 2444.8362 | U33: =U32+G33-N33-O33+Q33+S33+T33 -> 100434.02 | V33: =E33*V$21 -> 2319.6424 | W33: =AB32*F$21 -> 421.50997 | X33: =B33*$D$14 -> 1952.1289 | Y33: =X33*$Y$21 -> 976.06446 | Z33: =IF(X33-Y33<V33+W33+AB32,X33-Y33,V33+W33+AB32) -> 976.06446 | AA33: =X33-Y33-Z33 -> 0 | AB33: =V33+W33-Z33+AB32 -> 15815.42 | AC33: =IF(AL32>0,IF(AL32>B33*$AC$21,B33*$AC$21,AL32),0) -> 5856.3868 | AD33: =AI32*M$21 -> 451.07983 | AE33: =IF((A33/$F$16-INT(A33/$F$16))=0,B33*$D$16,0) -> 0 | AF33: =AE33*$AF$21 -> 0 | AG33: =IF(AE33-AF33>AI32+AC33,AI32+AC33,AE33-AF33) -> 0 | AH33: =AE33-AF33-AG33 -> 0 | AI33: =AC33+AD33-AG33+AI32 -> 21343.461 | AJ33: =R33 -> 10638.326 | AK33: =AA33+AH33 -> 0 | AL33: =AL32+AJ33 -> 47512.609 | AM33: =C33*$D$11 -> 1222.4181 | AN33: =AO32*AN$21 -> 359.87625 | AO33: =AM33+AN33+AO32 -> 13578.169 | AP33: =C33*$D$12 -> 2444.8362 | AQ33: =AR32*AQ$21 -> 719.75249 | AR33: =AP33+AQ33+AR32 -> 27156.338 | AS33: =IF((A33/$F$16-INT(A33/$F$16))=0,AB33+AI33,AB33) -> 15815.42 | AT33: =AO33+AR33+AS33 -> 56549.928 | AU33: =AT33/B33 -> 0.14484168 | AV33: =AV32 -> 345650 | AW33: =$D$5-AT33 -> 271450.07 | AX33: =IF(AO33>$L$6,0,IF(AO33>$L$3,(AO33-$L$3)/$L$5*$L$4*12,0)) -> 1582.3217 | AY33: =AY32+1 -> 11
A34: =A33+1 -> 12 | B34: =B33*(1+$I$6) -> 400186.43 | C34: =C33*(1+$I$5) -> 25132.917 | D34: =AX33 -> 1582.3217 | E34: =C34-D34 -> 23550.595 | F34: =U33*$F$21 -> 3013.0206 | G34: =E34+F34 -> 26563.615 | H34: =B34*$D$15 -> 800.37286 | I34: =E34*$D$13 -> 3061.5773 | J34: =Z34+AG34 -> 1000.4661 | K34: =AA34+AH34 -> 0 | L34: =IF(U32<0,-U32*$L$21,0) -> 0 | M34: =AV32*$M$21 -> 10369.5 | N34: =SUM(H34:M34) -> 15231.916 | P34: =G34-N34-O34 -> 11331.699 | Q34: =Tax!S17 -> 0 | R34: =P34+Q34 -> 11331.699 | S34: =AM34 -> 1256.6458 | T34: =AP34 -> 2513.2917 | U34: =U33+G34-N34-O34+Q34+S34+T34 -> 115535.66 | V34: =E34*V$21 -> 2355.0595 | W34: =AB33*F$21 -> 474.4626 | X34: =B34*$D$14 -> 2000.9322 | Y34: =X34*$Y$21 -> 1000.4661 | Z34: =IF(X34-Y34<V34+W34+AB33,X34-Y34,V34+W34+AB33) -> 1000.4661 | AA34: =X34-Y34-Z34 -> 0 | AB34: =V34+W34-Z34+AB33 -> 17644.476 | AC34: =IF(AL33>0,IF(AL33>B34*$AC$21,B34*$AC$21,AL33),0) -> 6002.7965 | AD34: =AI33*M$21 -> 640.30383 | AE34: =IF((A34/$F$16-INT(A34/$F$16))=0,B34*$D$16,0) -> 0 | AF34: =AE34*$AF$21 -> 0 | AG34: =IF(AE34-AF34>AI33+AC34,AI33+AC34,AE34-AF34) -> 0 | AH34: =AE34-AF34-AG34 -> 0 | AI34: =AC34+AD34-AG34+AI33 -> 27986.561 | AJ34: =R34 -> 11331.699 | AK34: =AA34+AH34 -> 0 | AL34: =AL33+AJ34 -> 58844.308 | AM34: =C34*$D$11 -> 1256.6458 | AN34: =AO33*AN$21 -> 407.34508 | AO34: =AM34+AN34+AO33 -> 15242.16 | AP34: =C34*$D$12 -> 2513.2917 | AQ34: =AR33*AQ$21 -> 814.69015 | AR34: =AP34+AQ34+AR33 -> 30484.32 | AS34: =IF((A34/$F$16-INT(A34/$F$16))=0,AB34+AI34,AB34) -> 17644.476 | AT34: =AO34+AR34+AS34 -> 63370.957 | AU34: =AT34/B34 -> 0.15835359 | AV34: =AV33 -> 345650 | AW34: =$D$5-AT34 -> 264629.04 | AX34: =IF(AO34>$L$6,0,IF(AO34>$L$3,(AO34-$L$3)/$L$5*$L$4*12,0)) -> 1929.763 | AY34: =AY33+1 -> 12
A35: =A34+1 -> 13 | B35: =B34*(1+$I$6) -> 410191.09 | C35: =C34*(1+$I$5) -> 25836.638 | D35: =AX34 -> 1929.763 | E35: =C35-D35 -> 23906.875 | F35: =U34*$F$21 -> 3466.0697 | G35: =E35+F35 -> 27372.945 | H35: =B35*$D$15 -> 820.38218 | I35: =E35*$D$13 -> 3107.8938 | J35: =Z35+AG35 -> 1025.4777 | K35: =AA35+AH35 -> 0 | L35: =IF(U33<0,-U33*$L$21,0) -> 0 | M35: =AV33*$M$21 -> 10369.5 | N35: =SUM(H35:M35) -> 15323.254 | P35: =G35-N35-O35 -> 12049.691 | Q35: =Tax!T17 -> -681.40004 | R35: =P35+Q35 -> 11368.291 | S35: =AM35 -> 1291.8319 | T35: =AP35 -> 2583.6638 | U35: =U34+G35-N35-O35+Q35+S35+T35 -> 130779.44 | V35: =E35*V$21 -> 2390.6875 | W35: =AB34*F$21 -> 529.33428 | X35: =B35*$D$14 -> 2050.9555 | Y35: =X35*$Y$21 -> 1025.4777 | Z35: =IF(X35-Y35<V35+W35+AB34,X35-Y35,V35+W35+AB34) -> 1025.4777 | AA35: =X35-Y35-Z35 -> 0 | AB35: =V35+W35-Z35+AB34 -> 19539.02 | AC35: =IF(AL34>0,IF(AL34>B35*$AC$21,B35*$AC$21,AL34),0) -> 6152.8664 | AD35: =AI34*M$21 -> 839.59684 | AE35: =IF((A35/$F$16-INT(A35/$F$16))=0,B35*$D$16,0) -> 0 | AF35: =AE35*$AF$21 -> 0 | AG35: =IF(AE35-AF35>AI34+AC35,AI34+AC35,AE35-AF35) -> 0 | AH35: =AE35-AF35-AG35 -> 0 | AI35: =AC35+AD35-AG35+AI34 -> 34979.025 | AJ35: =R35 -> 11368.291 | AK35: =AA35+AH35 -> 0 | AL35: =AL34+AJ35 -> 70212.599 | AM35: =C35*$D$11 -> 1291.8319 | AN35: =AO34*AN$21 -> 457.2648 | AO35: =AM35+AN35+AO34 -> 16991.257 | AP35: =C35*$D$12 -> 2583.6638 | AQ35: =AR34*AQ$21 -> 914.52961 | AR35: =AP35+AQ35+AR34 -> 33982.514 | AS35: =IF((A35/$F$16-INT(A35/$F$16))=0,AB35+AI35,AB35) -> 19539.02 | AT35: =AO35+AR35+AS35 -> 70512.791 | AU35: =AT35/B35 -> 0.1719023 | AV35: =AV34 -> 345650 | AW35: =$D$5-AT35 -> 257487.21 | AX35: =IF(AO35>$L$6,0,IF(AO35>$L$3,(AO35-$L$3)/$L$5*$L$4*12,0)) -> 0 | AY35: =AY34+1 -> 13
A36: =A35+1 -> 14 | B36: =B35*(1+$I$6) -> 420445.87 | C36: =C35*(1+$I$5) -> 26560.064 | D36: =AX35 -> 0 | E36: =C36-D36 -> 26560.064 | F36: =U35*$F$21 -> 3923.3833 | G36: =E36+F36 -> 30483.447 | H36: =B36*$D$15 -> 840.89174 | I36: =E36*$D$13 -> 3452.8083 | J36: =Z36+AG36 -> 1051.1147 | K36: =AA36+AH36 -> 0 | L36: =IF(U34<0,-U34*$L$21,0) -> 0 | M36: =AV34*$M$21 -> 10369.5 | N36: =SUM(H36:M36) -> 15714.315 | P36: =G36-N36-O36 -> 14769.133 | Q36: =Tax!U17 -> -2204.4685 | R36: =P36+Q36 -> 12564.664 | S36: =AM36 -> 1328.0032 | T36: =AP36 -> 2656.0064 | U36: =U35+G36-N36-O36+Q36+S36+T36 -> 147328.12 | V36: =E36*V$21 -> 2656.0064 | W36: =AB35*F$21 -> 586.1706 | X36: =B36*$D$14 -> 2102.2293 | Y36: =X36*$Y$21 -> 1051.1147 | Z36: =IF(X36-Y36<V36+W36+AB35,X36-Y36,V36+W36+AB35) -> 1051.1147 | AA36: =X36-Y36-Z36 -> 0 | AB36: =V36+W36-Z36+AB35 -> 21730.082 | AC36: =IF(AL35>0,IF(AL35>B36*$AC$21,B36*$AC$21,AL35),0) -> 6306.688 | AD36: =AI35*M$21 -> 1049.3707 | AE36: =IF((A36/$F$16-INT(A36/$F$16))=0,B36*$D$16,0) -> 0 | AF36: =AE36*$AF$21 -> 0 | AG36: =IF(AE36-AF36>AI35+AC36,AI35+AC36,AE36-AF36) -> 0 | AH36: =AE36-AF36-AG36 -> 0 | AI36: =AC36+AD36-AG36+AI35 -> 42335.083 | AJ36: =R36 -> 12564.664 | AK36: =AA36+AH36 -> 0 | AL36: =AL35+AJ36 -> 82777.263 | AM36: =C36*$D$11 -> 1328.0032 | AN36: =AO35*AN$21 -> 509.73771 | AO36: =AM36+AN36+AO35 -> 18828.998 | AP36: =C36*$D$12 -> 2656.0064 | AQ36: =AR35*AQ$21 -> 1019.4754 | AR36: =AP36+AQ36+AR35 -> 37657.996 | AS36: =IF((A36/$F$16-INT(A36/$F$16))=0,AB36+AI36,AB36) -> 21730.082 | AT36: =AO36+AR36+AS36 -> 78217.076 | AU36: =AT36/B36 -> 0.18603364 | AV36: =AV35 -> 345650 | AW36: =$D$5-AT36 -> 249782.92 | AX36: =IF(AO36>$L$6,0,IF(AO36>$L$3,(AO36-$L$3)/$L$5*$L$4*12,0)) -> 0 | AY36: =AY35+1 -> 14
A37: =A36+1 -> 15 | B37: =B36*(1+$I$6) -> 430957.02 | C37: =C36*(1+$I$5) -> 27303.746 | D37: =AX36 -> 0 | E37: =C37-D37 -> 27303.746 | F37: =U36*$F$21 -> 4419.8435 | G37: =E37+F37 -> 31723.589 | H37: =B37*$D$15 -> 861.91403 | I37: =E37*$D$13 -> 3549.487 | J37: =Z37+AG37 -> 1077.3925 | K37: =AA37+AH37 -> 0 | L37: =IF(U35<0,-U35*$L$21,0) -> 0 | M37: =AV35*$M$21 -> 10369.5 | N37: =SUM(H37:M37) -> 15858.294 | P37: =G37-N37-O37 -> 15865.296 | Q37: =Tax!V17 -> -2412.7395 | R37: =P37+Q37 -> 13452.556 | S37: =AM37 -> 1365.1873 | T37: =AP37 -> 2730.3746 | U37: =U36+G37-N37-O37+Q37+S37+T37 -> 164876.23 | V37: =E37*V$21 -> 2730.3746 | W37: =AB36*F$21 -> 651.90247 | X37: =B37*$D$14 -> 2154.7851 | Y37: =X37*$Y$21 -> 1077.3925 | Z37: =IF(X37-Y37<V37+W37+AB36,X37-Y37,V37+W37+AB36) -> 1077.3925 | AA37: =X37-Y37-Z37 -> 0 | AB37: =V37+W37-Z37+AB36 -> 24034.967 | AC37: =IF(AL36>0,IF(AL36>B37*$AC$21,B37*$AC$21,AL36),0) -> 6464.3552 | AD37: =AI36*M$21 -> 1270.0525 | AE37: =IF((A37/$F$16-INT(A37/$F$16))=0,B37*$D$16,0) -> 0 | AF37: =AE37*$AF$21 -> 0 | AG37: =IF(AE37-AF37>AI36+AC37,AI36+AC37,AE37-AF37) -> 0 | AH37: =AE37-AF37-AG37 -> 0 | AI37: =AC37+AD37-AG37+AI36 -> 50069.491 | AJ37: =R37 -> 13452.556 | AK37: =AA37+AH37 -> 0 | AL37: =AL36+AJ37 -> 96229.819 | AM37: =C37*$D$11 -> 1365.1873 | AN37: =AO36*AN$21 -> 564.86993 | AO37: =AM37+AN37+AO36 -> 20759.055 | AP37: =C37*$D$12 -> 2730.3746 | AQ37: =AR36*AQ$21 -> 1129.7399 | AR37: =AP37+AQ37+AR36 -> 41518.11 | AS37: =IF((A37/$F$16-INT(A37/$F$16))=0,AB37+AI37,AB37) -> 24034.967 | AT37: =AO37+AR37+AS37 -> 86312.132 | AU37: =AT37/B37 -> 0.20028014 | AV37: =AV36 -> 345650 | AW37: =$D$5-AT37 -> 241687.87 | AX37: =IF(AO37>$L$6,0,IF(AO37>$L$3,(AO37-$L$3)/$L$5*$L$4*12,0)) -> 0 | AY37: =AY36+1 -> 15
A38: =A37+1 -> 16 | B38: =B37*(1+$I$6) -> 441730.94 | C38: =C37*(1+$I$5) -> 28068.251 | D38: =AX37 -> 0 | E38: =C38-D38 -> 28068.251 | F38: =U37*$F$21 -> 4946.287 | G38: =E38+F38 -> 33014.538 | H38: =B38*$D$15 -> 883.46188 | I38: =E38*$D$13 -> 3648.8726 | J38: =Z38+AG38 -> 1104.3274 | K38: =AA38+AH38 -> 0 | L38: =IF(U36<0,-U36*$L$21,0) -> 0 | M38: =AV36*$M$21 -> 10369.5 | N38: =SUM(H38:M38) -> 16006.162 | P38: =G38-N38-O38 -> 17008.376 | Q38: =Tax!W17 -> -2629.9248 | R38: =P38+Q38 -> 14378.451 | S38: =AM38 -> 1403.4125 | T38: =AP38 -> 2806.8251 | U38: =U37+G38-N38-O38+Q38+S38+T38 -> 183464.92 | V38: =E38*V$21 -> 2806.8251 | W38: =AB37*F$21 -> 721.04901 | X38: =B38*$D$14 -> 2208.6547 | Y38: =X38*$Y$21 -> 1104.3274 | Z38: =IF(X38-Y38<V38+W38+AB37,X38-Y38,V38+W38+AB37) -> 1104.3274 | AA38: =X38-Y38-Z38 -> 0 | AB38: =V38+W38-Z38+AB37 -> 26458.514 | AC38: =IF(AL37>0,IF(AL37>B38*$AC$21,B38*$AC$21,AL37),0) -> 6625.9641 | AD38: =AI37*M$21 -> 1502.0847 | AE38: =IF((A38/$F$16-INT(A38/$F$16))=0,B38*$D$16,0) -> 0 | AF38: =AE38*$AF$21 -> 0 | AG38: =IF(AE38-AF38>AI37+AC38,AI37+AC38,AE38-AF38) -> 0 | AH38: =AE38-AF38-AG38 -> 0 | AI38: =AC38+AD38-AG38+AI37 -> 58197.54 | AJ38: =R38 -> 14378.451 | AK38: =AA38+AH38 -> 0 | AL38: =AL37+AJ38 -> 110608.27 | AM38: =C38*$D$11 -> 1403.4125 | AN38: =AO37*AN$21 -> 622.77165 | AO38: =AM38+AN38+AO37 -> 22785.239 | AP38: =C38*$D$12 -> 2806.8251 | AQ38: =AR37*AQ$21 -> 1245.5433 | AR38: =AP38+AQ38+AR37 -> 45570.478 | AS38: =IF((A38/$F$16-INT(A38/$F$16))=0,AB38+AI38,AB38) -> 26458.514 | AT38: =AO38+AR38+AS38 -> 94814.231 | AU38: =AT38/B38 -> 0.2146425 | AV38: =AV37 -> 345650 | AW38: =$D$5-AT38 -> 233185.77 | AX38: =IF(AO38>$L$6,0,IF(AO38>$L$3,(AO38-$L$3)/$L$5*$L$4*12,0)) -> 0 | AY38: =AY37+1 -> 16
A39: =A38+1 -> 17 | B39: =B38*(1+$I$6) -> 452774.21 | C39: =C38*(1+$I$5) -> 28854.162 | D39: =AX38 -> 0 | E39: =C39-D39 -> 28854.162 | F39: =U38*$F$21 -> 5503.9477 | G39: =E39+F39 -> 34358.109 | H39: =B39*$D$15 -> 905.54843 | I39: =E39*$D$13 -> 3751.041 | J39: =Z39+AG39 -> 1131.9355 | K39: =AA39+AH39 -> 0 | L39: =IF(U37<0,-U37*$L$21,0) -> 0 | M39: =AV37*$M$21 -> 10369.5 | N39: =SUM(H39:M39) -> 16158.025 | P39: =G39-N39-O39 -> 18200.084 | Q39: =Tax!X17 -> -2856.3494 | R39: =P39+Q39 -> 15343.735 | S39: =AM39 -> 1442.7081 | T39: =AP39 -> 2885.4162 | U39: =U38+G39-N39-O39+Q39+S39+T39 -> 203136.78 | V39: =E39*V$21 -> 2885.4162 | W39: =AB38*F$21 -> 793.75541 | X39: =B39*$D$14 -> 2263.8711 | Y39: =X39*$Y$21 -> 1131.9355 | Z39: =IF(X39-Y39<V39+W39+AB38,X39-Y39,V39+W39+AB38) -> 1131.9355 | AA39: =X39-Y39-Z39 -> 0 | AB39: =V39+W39-Z39+AB38 -> 29005.75 | AC39: =IF(AL38>0,IF(AL38>B39*$AC$21,B39*$AC$21,AL38),0) -> 6791.6132 | AD39: =AI38*M$21 -> 1745.9262 | AE39: =IF((A39/$F$16-INT(A39/$F$16))=0,B39*$D$16,0) -> 0 | AF39: =AE39*$AF$21 -> 0 | AG39: =IF(AE39-AF39>AI38+AC39,AI38+AC39,AE39-AF39) -> 0 | AH39: =AE39-AF39-AG39 -> 0 | AI39: =AC39+AD39-AG39+AI38 -> 66735.079 | AJ39: =R39 -> 15343.735 | AK39: =AA39+AH39 -> 0 | AL39: =AL38+AJ39 -> 125952.01 | AM39: =C39*$D$11 -> 1442.7081 | AN39: =AO38*AN$21 -> 683.55718 | AO39: =AM39+AN39+AO38 -> 24911.504 | AP39: =C39*$D$12 -> 2885.4162 | AQ39: =AR38*AQ$21 -> 1367.1144 | AR39: =AP39+AQ39+AR38 -> 49823.009 | AS39: =IF((A39/$F$16-INT(A39/$F$16))=0,AB39+AI39,AB39) -> 29005.75 | AT39: =AO39+AR39+AS39 -> 103740.26 | AU39: =AT39/B39 -> 0.2291214 | AV39: =AV38 -> 345650 | AW39: =$D$5-AT39 -> 224259.74 | AX39: =IF(AO39>$L$6,0,IF(AO39>$L$3,(AO39-$L$3)/$L$5*$L$4*12,0)) -> 0 | AY39: =AY38+1 -> 17
A40: =A39+1 -> 18 | B40: =B39*(1+$I$6) -> 464093.57 | C40: =C39*(1+$I$5) -> 29662.078 | D40: =AX39 -> 0 | E40: =C40-D40 -> 29662.078 | F40: =U39*$F$21 -> 6094.1035 | G40: =E40+F40 -> 35756.182 | H40: =B40*$D$15 -> 928.18714 | I40: =E40*$D$13 -> 3856.0702 | J40: =Z40+AG40 -> 1160.2339 | K40: =AA40+AH40 -> 0 | L40: =IF(U38<0,-U38*$L$21,0) -> 0 | M40: =AV38*$M$21 -> 10369.5 | N40: =SUM(H40:M40) -> 16313.991 | P40: =G40-N40-O40 -> 19442.191 | Q40: =Tax!Y17 -> -3092.3495 | R40: =P40+Q40 -> 16349.841 | S40: =AM40 -> 1483.1039 | T40: =AP40 -> 2966.2078 | U40: =U39+G40-N40-O40+Q40+S40+T40 -> 223935.94 | V40: =E40*V$21 -> 2966.2078 | W40: =AB39*F$21 -> 870.17249 | X40: =B40*$D$14 -> 2320.4678 | Y40: =X40*$Y$21 -> 1160.2339 | Z40: =IF(X40-Y40<V40+W40+AB39,X40-Y40,V40+W40+AB39) -> 1160.2339 | AA40: =X40-Y40-Z40 -> 0 | AB40: =V40+W40-Z40+AB39 -> 31681.896 | AC40: =IF(AL39>0,IF(AL39>B40*$AC$21,B40*$AC$21,AL39),0) -> 6961.4035 | AD40: =AI39*M$21 -> 2002.0524 | AE40: =IF((A40/$F$16-INT(A40/$F$16))=0,B40*$D$16,0) -> 0 | AF40: =AE40*$AF$21 -> 0 | AG40: =IF(AE40-AF40>AI39+AC40,AI39+AC40,AE40-AF40) -> 0 | AH40: =AE40-AF40-AG40 -> 0 | AI40: =AC40+AD40-AG40+AI39 -> 75698.535 | AJ40: =R40 -> 16349.841 | AK40: =AA40+AH40 -> 0 | AL40: =AL39+AJ40 -> 142301.85 | AM40: =C40*$D$11 -> 1483.1039 | AN40: =AO39*AN$21 -> 747.34513 | AO40: =AM40+AN40+AO39 -> 27141.954 | AP40: =C40*$D$12 -> 2966.2078 | AQ40: =AR39*AQ$21 -> 1494.6903 | AR40: =AP40+AQ40+AR39 -> 54283.907 | AS40: =IF((A40/$F$16-INT(A40/$F$16))=0,AB40+AI40,AB40) -> 31681.896 | AT40: =AO40+AR40+AS40 -> 113107.76 | AU40: =AT40/B40 -> 0.24371757 | AV40: =AV39 -> 345650 | AW40: =$D$5-AT40 -> 214892.24 | AX40: =IF(AO40>$L$6,0,IF(AO40>$L$3,(AO40-$L$3)/$L$5*$L$4*12,0)) -> 0 | AY40: =AY39+1 -> 18
...

Sheet Summary
A1: Purchase Costs | B1: Amount | E1: Year 1 | F1: Year 2 | G1: Year 3 | H1: Year 4 | I1: Year 5
A2: Property Price | B2: ='Financial Model'!D2 -> 300000 | D2: Income:
A3: LBTT ADS, Conveyancing | B3: ='Financial Model'!D3 -> 23000 | D3: Annual Rent | E3: ='Financial Model'!E23 -> 18548.92 | F3: ='Financial Model'!E24 -> 19068.29 | G3: ='Financial Model'!E25 -> 19602.202 | H3: ='Financial Model'!E26 -> 20151.064 | I3: ='Financial Model'!E27 -> 20715.293
A4: Furnishing | B4: ='Financial Model'!D4 -> 5000 | D4: Bank Interests | E4: ='Financial Model'!F23 -> 0 | F4: ='Financial Model'!F24 -> 526.42195 | G4: ='Financial Model'!F25 -> 772.4149 | H4: ='Financial Model'!F26 -> 1041.0702 | I4: ='Financial Model'!F27 -> 1333.4989
A5: Purchase Cost | B5: ='Financial Model'!D5 -> 328000 | D5: Expenses:
A6: Fundraising Fees | B6: ='Financial Model'!D6 -> 16400 | D6: Property Maintenance | E6: ='Financial Model'!J23 -> 762.5 | F6: ='Financial Model'!J24 -> 781.5625 | G6: ='Financial Model'!J25 -> 801.10156 | H6: ='Financial Model'!J26 -> 821.1291 | I6: ='Financial Model'!J27 -> 841.65733
A7: Share Offer Costs | B7: ='Financial Model'!D7 -> 1250 | D7: Property Insurance | E7: ='Financial Model'!H23 -> 610 | F7: ='Financial Model'!H24 -> 625.25 | G7: ='Financial Model'!H25 -> 640.88125 | H7: ='Financial Model'!H26 -> 656.90328 | I7: ='Financial Model'!H27 -> 673.32586
A8: Fund to Raise | B8: ='Financial Model'!D8 -> 345650 | D8: Property Management | E8: ='Financial Model'!I23 -> 2411.3596 | F8: ='Financial Model'!I24 -> 2478.8777 | G8: ='Financial Model'!I25 -> 2548.2862 | H8: ='Financial Model'!I26 -> 2619.6383 | I8: ='Financial Model'!I27 -> 2692.9881
D9: Investor Share Return | E9: ='Financial Model'!M23 -> 0 | F9: ='Financial Model'!M24 -> 10369.5 | G9: ='Financial Model'!M25 -> 10369.5 | H9: ='Financial Model'!M26 -> 10369.5 | I9: ='Financial Model'!M27 -> 10369.5
D10: Fees & Launch Costs | E10: ='Financial Model'!U22 -> 17650 | F10: 0 | G10: 0 | H10: 0 | I10: 0
D11: Corp. Tax | E11: 0 | F11: 0 | G11: 0 | H11: 0 | I11: 0
D12: Profit After Tax | E12: ='Financial Model'!P23 -> -2884.9396 | F12: ='Financial Model'!P24 -> 5339.5215 | G12: ='Financial Model'!P25 -> 6014.8477 | H12: ='Financial Model'!P26 -> 6724.9631 | I12: ='Financial Model'!P27 -> 7471.3209
D13: Gift Points Purchase | E13: ='Financial Model'!AP23 -> 1854.892 | F13: ='Financial Model'!AP24 -> 1906.829 | G13: ='Financial Model'!AP25 -> 1960.2202 | H13: ='Financial Model'!AP26 -> 2015.1064 | I13: ='Financial Model'!AP27 -> 2071.5293
D14: Cash at Bank | E14: ='Financial Model'!U23 -> 17547.398 | F14: ='Financial Model'!U24 -> 25747.163 | G14: ='Financial Model'!U25 -> 34702.341 | H14: ='Financial Model'!U26 -> 44449.964 | I14: ='Financial Model'!U27 -> 54680.427
D15: Projected Tenant Shares | E15: ='Financial Model'!AT23 -> 3874.73 | F15: ='Financial Model'!AT24 -> 7976.4818 | G15: ='Financial Model'!AT25 -> 12315.225 | H15: ='Financial Model'!AT26 -> 16901.319 | I15: ='Financial Model'!AT27 -> 21745.524
D16: Tenant Ownership after: | E16: 5 Years | F16: 10 Years | G16: 20 Years | H16: 30 Years | I16: 40 Years
E17: =INT('Financial Model'!AU27*1000)/10&"%" -> 6.4% | F17: =INT('Financial Model'!AU32*1000)/10&"%" -> 17% | G17: =INT('Financial Model'!AU42*1000)/10&"%" -> 39.3% | H17: =INT('Financial Model'!AU52*1000)/10&"%" -> 63.2% | I17: =INT('Financial Model'!AU62*1000)/10&"%" -> 88.8%
M19: Year 1 | N19: Year 2 | O19: Year 3 | P19: Year 4 | Q19: Year 5
M20: (£) | N20: (£) | O20: (£) | P20: (£) | Q20: (£)
L21: ='P&L'!B4 -> Turnover
L22: ='P&L'!B5 -> Rent Received | M22: ='P&L'!H5 -> 18548.92 | N22: ='P&L'!I5 -> 19068.29 | O22: ='P&L'!J5 -> 19602.202 | P22: ='P&L'!K5 -> 20151.064 | Q22: ='P&L'!L5 -> 20715.293
L23: ='P&L'!B6 -> Bank Interests | M23: ='P&L'!H6 -> 0 | N23: ='P&L'!I6 -> 526.42195 | O23: ='P&L'!J6 -> 772.4149 | P23: ='P&L'!K6 -> 1041.0702 | Q23: ='P&L'!L6 -> 1333.4989
L25: ='P&L'!B8 -> Total Income | M25: =SUM(M22:M24) -> 18548.92 | N25: =SUM(N22:N24) -> 19594.712 | O25: =SUM(O22:O24) -> 20374.617 | P25: =SUM(P22:P24) -> 21192.134 | Q25: =SUM(Q22:Q24) -> 22048.792
L27: ='P&L'!B10 -> (Less Overheads)
L28: ='P&L'!B12 -> Property Mgmt Costs | M28: ='P&L'!H12 -> -2411.3596 | N28: ='P&L'!I12 -> -2478.8777 | O28: ='P&L'!J12 -> -2548.2862 | P28: ='P&L'!K12 -> -2619.6383 | Q28: ='P&L'!L12 -> -2692.9881
L29: ='P&L'!B15 -> Repairs and Renewals | M29: ='P&L'!H15 -> -762.5 | N29: ='P&L'!I15 -> -781.5625 | O29: ='P&L'!J15 -> -801.10156 | P29: ='P&L'!K15 -> -821.1291 | Q29: ='P&L'!L15 -> -841.65733
L30: ='P&L'!B16 -> Insurance | M30: ='P&L'!H16 -> -610 | N30: ='P&L'!I16 -> -625.25 | O30: ='P&L'!J16 -> -640.88125 | P30: ='P&L'!K16 -> -656.90328 | Q30: ='P&L'!L16 -> -673.32586
L31: ='P&L'!B17 -> Fundraising Fees & Costs
L32: ='P&L'!B18 -> (Total Overheads) | M32: =SUM(M28:M31) -> -3783.8596 | N32: =SUM(N28:N31) -> -3885.6902 | O32: =SUM(O28:O31) -> -3990.2691 | P32: =SUM(P28:P31) -> -4097.6706 | Q32: =SUM(Q28:Q31) -> -4207.9713
L34: ='P&L'!B20 -> EBITDA | M34: =M25+M32 -> 14765.06 | N34: =N25+N32 -> 15709.022 | O34: =O25+O32 -> 16384.348 | P34: =P25+P32 -> 17094.463 | Q34: =Q25+Q32 -> 17840.821
L36: ='P&L'!B22 -> (Less Interest)
L37: ='P&L'!B23 -> Community Shares | M37: ='P&L'!H23 -> 0 | N37: ='P&L'!I23 -> -10369.5 | O37: ='P&L'!J23 -> -10369.5 | P37: ='P&L'!K23 -> -10369.5 | Q37: ='P&L'!L23 -> -10369.5
L38: ='P&L'!B24 -> Mortgage | N38: =-Mortgage!O15 -> 0 | O38: =-Mortgage!P15 -> 0 | P38: =-Mortgage!Q15 -> 0 | Q38: =-Mortgage!R15 -> 0
L39: ='P&L'!B25 -> (Total Interest) | M39: =SUM(M37:M38) -> 0 | N39: =SUM(N37:N38) -> -10369.5 | O39: =SUM(O37:O38) -> -10369.5 | P39: =SUM(P37:P38) -> -10369.5 | Q39: =SUM(Q37:Q38) -> -10369.5
L41: ='P&L'!B27 -> (Extra-Ordinary Day 1 Costs)
L42: ='P&L'!B28 -> Other costs | M42: ='P&L'!H28 -> 0 | N42: ='P&L'!I28 -> 0 | O42: ='P&L'!J28 -> 0 | P42: ='P&L'!K28 -> 0 | Q42: ='P&L'!L28 -> 0
L43: ='P&L'!B29 -> Business Development | M43: =-'Start Up Costs'!T7 -> 0 | N43: =-'Start Up Costs'!U7 -> 0 | O43: =-'Start Up Costs'!V7 -> 0 | P43: =-'Start Up Costs'!W7 -> 0 | Q43: =-'Start Up Costs'!X7 -> 0
L44: ='P&L'!B30 -> (Total Extra-Ordinary Day 1 Costs) | M44: =SUM(M42:M43) -> 0 | N44: =SUM(N42:N43) -> 0 | O44: =SUM(O42:O43) -> 0 | P44: =SUM(P42:P43) -> 0 | Q44: =SUM(Q42:Q43) -> 0
L46: ='P&L'!B32 -> Gross Profit | M46: =M34+M39+M44 -> 14765.06 | N46: =N34+N39+N44 -> 5339.5215 | O46: =O34+O39+O44 -> 6014.8477 | P46: =P34+P39+P44 -> 6724.9631 | Q46: =Q34+Q39+Q44 -> 7471.3209
L47: ='P&L'!B33 -> (less Tax) | M47: ='P&L'!H33 -> 0 | N47: ='P&L'!I33 -> 0 | O47: ='P&L'!J33 -> 0 | P47: ='P&L'!K33 -> 0 | Q47: ='P&L'!L33 -> -348.15227
...

Sheet Weekly Overheads
C1: Actual Cost | D1: % of turnover | E1: Weekly Turnover | F1: ='Financial Model'!E23/52 -> 356.71
B2: Wages and Salaries
B3: Property Mgmt Costs | C3: ='Financial Model'!I23/52 -> 46.3723 | D3: =C3/$F$1 -> 0.13
B4: Rates
B5: Utilities
B6: Repairs and Renewals | C6: ='Financial Model'!$E$23*'Financial Model'!$D$10/52 -> 35.671 | D6: =C6/$F$1 -> 0.1
B7: Insurance | C7: ='Financial Model'!$H$23/52 -> 11.730769 | D7: =C7/$F$1 -> 0.032886012
B8: Marketing
B9: Consumables
B10: Cleaning/ Waste
B11: Profesional Fees
B12: Bank Charges | C12: ='Financial Model'!$L$23/52 -> 0 | D12: =C12/$F$1 -> 0
B13: Equipment Hire
B14: Pay TV
B15: Budgeted Major Repairs | C15: ='Financial Model'!B23*'Financial Model'!D16/'Financial Model'!F16/52 -> 87.980769 | D15: =C15/$F$1 -> 0.24664509
B16: Other Costs
B18: Overheads excluding Salaries | C18: =C19-C2 -> 181.75484
B19: Overheads inc salaries | C19: =SUM(C2:C16) -> 181.75484

Sheet Community Shares
B2: Dashboard
B3: Amount Raised | C3: ='Financial Model'!D8 -> 345650 | D3: Proposed Withdrawal Rate | G3: 0
B4: Proposed Interest Rate | C4: 0.03 | D4: Initial Interest Holiday (Years) | G4: 0
B5: Interest Accrued to Share Account | C5: No | D5: Initial Withdrawal Suspension (Years) | G5: 3
B8: Year | C8: 1 | D8: 2 | E8: 3 | F8: 4 | G8: 5 | H8: 6 | I8: 7 | J8: 8 | K8: 9 | L8: 10 | M8: 11 | N8: 12 | O8: 13 | P8: 14 | Q8: 15 | R8: 16 | S8: 17 | T8: 18 | U8: 19 | V8: 20 | W8: 21 | X8: 22 | Y8: 23 | Z8: 24 | AA8: 25 | AB8: 26 | AC8: 27 | AD8: 28 | AE8: 29 | AF8: 30 | AG8: 31 | AH8: 32 | AI8: 33 | AJ8: 34 | AK8: 35 | AL8: 36 | AM8: 37 | AN8: 38 | AO8: 39 | AP8: 40
B9: Interest Accrued in Year | C9: =IF(C8>$G$4,$C$3*$C$4,0) -> 10369.5 | D9: =IF(D8>$G$4,C12*$C$4,0) -> 10369.5 | E9: =IF(E8>$G$4,D12*$C$4,0) -> 10369.5 | F9: =IF(F8>$G$4,E12*$C$4,0) -> 10369.5 | G9: =IF(G8>$G$4,F12*$C$4,0) -> 10369.5 | H9: =IF(H8>$G$4,G12*$C$4,0) -> 10369.5 | I9: =IF(I8>$G$4,H12*$C$4,0) -> 10369.5 | J9: =IF(J8>$G$4,I12*$C$4,0) -> 10369.5 | K9: =IF(K8>$G$4,J12*$C$4,0) -> 10369.5 | ... AP9: =IF(AP8>$G$4,AO12*$C$4,0) -> 10369.5
B10: Interest Paid out in year | C10: 0 | D10: =IF($C$5="No",IF(C12>0,-C9,0),0) -> -10369.5 | E10: =IF($C$5="No",IF(D12>0,-D9,0),0) -> -10369.5 | F10: =IF($C$5="No",IF(E12>0,-E9,0),0) -> -10369.5 | G10: =IF($C$5="No",IF(F12>0,-F9,0),0) -> -10369.5 | H10: =IF($C$5="No",IF(G12>0,-G9,0),0) -> -10369.5 | I10: =IF($C$5="No",IF(H12>0,-H9,0),0) -> -10369.5 | J10: =IF($C$5="No",IF(I12>0,-I9,0),0) -> -10369.5 | K10: =IF($C$5="No",IF(J12>0,-J9,0),0) -> -10369.5 | ... AP10: =IF($C$5="No",IF(AO12>0,-AO9,0),0) -> -10369.5
B11: Invest. Shares Withdrawn in Year | C11: =IF(C8>$G$5,IF(B12>=($C$3*$G$3),-$C$3*$G$3,-(B12+SUM(C9:C10))),0) -> 0 | D11: =IF(D8>$G$5,IF(C12>=($C$3*$G$3),-$C$3*$G$3,-(C12+SUM(D9:D10))),0) -> 0 | E11: =IF(E8>$G$5,IF(D12>=($C$3*$G$3),-$C$3*$G$3,-(D12+SUM(E9:E10))),0) -> 0 | F11: =IF(F8>$G$5,IF(E12>=($C$3*$G$3),-$C$3*$G$3,-(E12+SUM(F9:F10))),0) -> 0 | G11: =IF(G8>$G$5,IF(F12>=($C$3*$G$3),-$C$3*$G$3,-(F12+SUM(G9:G10))),0) -> 0 | H11: =IF(H8>$G$5,IF(G12>=($C$3*$G$3),-$C$3*$G$3,-(G12+SUM(H9:H10))),0) -> 0 | I11: =IF(I8>$G$5,IF(H12>=($C$3*$G$3),-$C$3*$G$3,-(H12+SUM(I9:I10))),0) -> 0 | J11: =IF(J8>$G$5,IF(I12>=($C$3*$G$3),-$C$3*$G$3,-(I12+SUM(J9:J10))),0) -> 0 | ... AP11: =IF(AP8>$G$5,IF(AO12>=($C$3*$G$3),-$C$3*$G$3,-(AO12+SUM(AP9:AP10))),0) -> 0
B12: Investment Share Balance | C12: =IF($C$5="Yes",C3+SUM(C9:C11),C3+C11) -> 345650 | D12: =IF($C$5="Yes",C12+SUM(D9:D11),C12+D11) -> 345650 | E12: =IF($C$5="Yes",D12+SUM(E9:E11),D12+E11) -> 345650 | F12: =IF($C$5="Yes",E12+SUM(F9:F11),E12+F11) -> 345650 | G12: =IF($C$5="Yes",F12+SUM(G9:G11),F12+G11) -> 345650 | H12: =IF($C$5="Yes",G12+SUM(H9:H11),G12+H11) -> 345650 | I12: =IF($C$5="Yes",H12+SUM(I9:I11),H12+I11) -> 345650 | J12: =IF($C$5="Yes",I12+SUM(J9:J11),I12+J11) -> 345650 | K12: =IF($C$5="Yes",J12+SUM(K9:K11),J12+K11) -> 345650 | ... AP12: =IF($C$5="Yes",AO12+SUM(AP9:AP11),AO12+AP11) -> 345650
B13: Home Shares Sold in Year | C13: ='Financial Model'!$S23 -> 927.446 | D13: ='Financial Model'!$S24 -> 953.41449 | E13: ='Financial Model'!$S25 -> 980.11009 | F13: ='Financial Model'!$S26 -> 1007.5532 | G13: ='Financial Model'!$S27 -> 1035.7647 | H13: ='Financial Model'!$S28 -> 1064.7661 | I13: ='Financial Model'!$S29 -> 1094.5795 | J13: ='Financial Model'!$S30 -> 1125.2278 | K13: ='Financial Model'!$S31 -> 1156.7341 | L13: ='Financial Model'!$S32 -> 1189.1227 | M13: ='Financial Model'!$S33 -> 1222.4181 | N13: ='Financial Model'!$S34 -> 1256.6458 | O13: ='Financial Model'!$S35 -> 1291.8319 | P13: ='Financial Model'!$S36 -> 1328.0032 | Q13: ='Financial Model'!$S37 -> 1365.1873 | R13: ='Financial Model'!$S38 -> 1403.4125 | S13: ='Financial Model'!$S39 -> 1442.7081 | T13: ='Financial Model'!$S40 -> 1483.1039 | U13: ='Financial Model'!$S41 -> 1524.6308 | V13: ='Financial Model'!$S42 -> 1567.3205 | W13: ='Financial Model'!$S43 -> 1611.2055 | X13: ='Financial Model'!$S44 -> 1656.3192 | Y13: ='Financial Model'!$S45 -> 1702.6962 | Z13: ='Financial Model'!$S46 -> 1750.3716 | AA13: ='Financial Model'!$S47 -> 1799.3821 | AB13: ='Financial Model'!$S48 -> 1849.7647 | AC13: ='Financial Model'!$S49 -> 1901.5582 | AD13: ='Financial Model'!$S50 -> 1954.8018 | AE13: ='Financial Model'!$S51 -> 2009.5362 | AF13: ='Financial Model'!$S52 -> 2065.8033 | AG13: ='Financial Model'!$S53 -> 2123.6457 | AH13: ='Financial Model'!$S54 -> 2183.1078 | AI13: ='Financial Model'!$S55 -> 2244.2348 | AJ13: ='Financial Model'!$S56 -> 2307.0734 | AK13: ='Financial Model'!$S57 -> 2371.6715 | AL13: ='Financial Model'!$S58 -> 2438.0783 | AM13: ='Financial Model'!$S59 -> 2506.3445 | AN13: ='Financial Model'!$S60 -> 2576.5221 | AO13: ='Financial Model'!$S61 -> 2648.6647 | AP13: ='Financial Model'!$S62 -> 2722.8273
B14: Home Shares Balance | C14: =C13 -> 927.446 | D14: =C14+D13 -> 1880.8605 | E14: =D14+E13 -> 2860.9706 | F14: =E14+F13 -> 3868.5238 | G14: =F14+G13 -> 4904.2884 | H14: =G14+H13 -> 5969.0545 | I14: =H14+I13 -> 7063.634 | J14: =I14+J13 -> 8188.8618 | K14: =J14+K13 -> 9345.5959 | ... AP14: =AO14+AP13 -> 66843.59

Sheet P&L
C2: Q1 | D2: Q2 | E2: Q3 | F2: Q4 | H2: Year 1 | I2: Year 2 | J2: Year 3 | K2: Year 4 | L2: Year 5 | M2: 6 | N2: 7 | O2: 8 | P2: 9 | Q2: 10 | R2: 11 | S2: 12 | T2: 13 | U2: 14 | V2: 15 | W2: 16 | X2: 17 | Y2: 18 | Z2: 19 | AA2: 20 | AB2: 21 | AC2: 22 | AD2: 23 | AE2: 24 | AF2: 25 | AG2: 26 | AH2: 27 | AI2: 28 | AJ2: 29 | AK2: 30 | AL2: 31 | AM2: 32 | AN2: 33 | AO2: 34 | AP2: 35 | AQ2: 36 | AR2: 37 | AS2: 38 | AT2: 39 | AU2: 40
C3: (£) | D3: (£) | E3: (£) | F3: (£) | H3: (£) | I3: (£) | J3: (£) | K3: (£) | L3: (£) | M3: (£) | N3: (£) | O3: (£) | P3: (£) | Q3: (£) | R3: (£) | S3: (£) | T3: (£) | U3: (£) | V3: (£) | W3: (£) | X3: (£) | Y3: (£) | Z3: (£) | AA3: (£) | AB3: (£) | AC3: (£) | AD3: (£) | AE3: (£) | AF3: (£) | AG3: (£) | AH3: (£) | AI3: (£) | AJ3: (£) | AK3: (£) | AL3: (£) | AM3: (£) | AN3: (£) | AO3: (£) | AP3: (£) | AQ3: (£) | AR3: (£) | AS3: (£) | AT3: (£) | AU3: (£)
B4: Turnover
B5: Rent Received | C5: =$H5/4 -> 4637.23 | D5: =$H5/4 -> 4637.23 | E5: =$H5/4 -> 4637.23 | F5: =$H5/4 -> 4637.23 | H5: ='Financial Model'!E$23 -> 18548.92 | I5: ='Financial Model'!E$24 -> 19068.29 | J5: ='Financial Model'!E$25 -> 19602.202 | K5: ='Financial Model'!E$26 -> 20151.064 | L5: ='Financial Model'!E$27 -> 20715.293
B6: Bank Interests | C6: =$H6/4 -> 0 | D6: =$H6/4 -> 0 | E6: =$H6/4 -> 0 | F6: =$H6/4 -> 0 | H6: ='Financial Model'!F$23 -> 0 | I6: ='Financial Model'!F$24 -> 526.42195 | J6: ='Financial Model'!F$25 -> 772.4149 | K6: ='Financial Model'!F$26 -> 1041.0702 | L6: ='Financial Model'!F$27 -> 1333.4989
B8: Total Income | C8: =SUM(C5:C7) -> 4637.23 | D8: =SUM(D5:D7) -> 4637.23 | E8: =SUM(E5:E7) -> 4637.23 | F8: =SUM(F5:F7) -> 4637.23 | H8: =SUM(C8:F8) -> 18548.92 | I8: =SUM(I5:I7) -> 19594.712 | J8: =SUM(J5:J7) -> 20374.617 | K8: =SUM(K5:K7) -> 21192.134 | L8: =SUM(L5:L7) -> 22048.792
B10: (Less Overheads)
B11: ='Weekly Overheads'!B2 -> Wages and Salaries | C11: =$H11/4 -> 0 | D11: =$H11/4 -> 0 | E11: =$H11/4 -> 0 | F11: =$H11/4 -> 0
B12: ='Weekly Overheads'!B3 -> Property Mgmt Costs | C12: =$H12/4 -> -602.8399 | D12: =$H12/4 -> -602.8399 | E12: =$H12/4 -> -602.8399 | F12: =$H12/4 -> -602.8399 | H12: =-'Financial Model'!$I23 -> -2411.3596 | I12: =-'Financial Model'!$I24 -> -2478.8777 | J12: =-'Financial Model'!$I25 -> -2548.2862 | K12: =-'Financial Model'!$I26 -> -2619.6383 | L12: =-'Financial Model'!$I27 -> -2692.9881
B13: ='Weekly Overheads'!B4 -> Rates | C13: =-'Weekly Overheads'!$C4*52.2/4 -> 0 | D13: =-'Weekly Overheads'!$C4*52.2/4 -> 0 | E13: =-'Weekly Overheads'!$C4*52.2/4 -> 0 | F13: =-'Weekly Overheads'!$C4*52.2/4 -> 0
B14: ='Weekly Overheads'!B5 -> Utilities | C14: =-'Weekly Overheads'!$C5*52.2/4 -> 0 | D14: =-'Weekly Overheads'!$C5*52.2/4 -> 0 | E14: =-'Weekly Overheads'!$C5*52.2/4 -> 0 | F14: =-'Weekly Overheads'!$C5*52.2/4 -> 0
B15: ='Weekly Overheads'!B6 -> Repairs and Renewals | C15: =$H15/4 -> -190.625 | D15: =$H15/4 -> -190.625 | E15: =$H15/4 -> -190.625 | F15: =$H15/4 -> -190.625 | H15: =-('Financial Model'!J23+'Financial Model'!K23) -> -762.5 | I15: =-('Financial Model'!J24+'Financial Model'!K24) -> -781.5625 | J15: =-('Financial Model'!J25+'Financial Model'!K25) -> -801.10156 | K15: =-('Financial Model'!J26+'Financial Model'!K26) -> -821.1291 | L15: =-('Financial Model'!J27+'Financial Model'!K27) -> -841.65733
B16: ='Weekly Overheads'!B7 -> Insurance | C16: =$H16/4 -> -152.5 | D16: =$H16/4 -> -152.5 | E16: =$H16/4 -> -152.5 | F16: =$H16/4 -> -152.5 | H16: =-'Financial Model'!H$23 -> -610 | I16: =-'Financial Model'!H$24 -> -625.25 | J16: =-'Financial Model'!H$25 -> -640.88125 | K16: =-'Financial Model'!H$26 -> -656.90328 | L16: =-'Financial Model'!H$27 -> -673.32586
B17: Fundraising Fees & Costs | C17: =H17 -> -17650 | H17: =-('Start Up Costs'!L17+'Start Up Costs'!L18) -> -17650
B18: (Total Overheads) | C18: =SUM(C11:C17) -> -18595.965 | D18: =SUM(D11:D17) -> -945.9649 | E18: =SUM(E11:E17) -> -945.9649 | F18: =SUM(F11:F17) -> -945.9649 | H18: =SUM(C18:F18) -> -21433.86 | I18: =SUM(I11:I17) -> -3885.6902 | J18: =SUM(J11:J17) -> -3990.2691 | K18: =SUM(K11:K17) -> -4097.6706 | L18: =SUM(L11:L17) -> -4207.9713
B20: EBITDA | C20: =C8+C18 -> -13958.735 | D20: =D8+D18 -> 3691.2651 | E20: =E8+E18 -> 3691.2651 | F20: =F8+F18 -> 3691.2651 | H20: =H8+H18 -> -2884.9396 | I20: =I8+I18 -> 15709.022 | J20: =J8+J18 -> 16384.348 | K20: =K8+K18 -> 17094.463 | L20: =L8+L18 -> 17840.821
B22: (Less Interest)
B23: Community Shares | C23: =H23/4 -> 0 | D23: =C23 -> 0 | E23: =D23 -> 0 | F23: =E23 -> 0 | H23: ='Community Shares'!C10 -> 0 | I23: ='Community Shares'!D10 -> -10369.5 | J23: ='Community Shares'!E10 -> -10369.5 | K23: ='Community Shares'!F10 -> -10369.5 | L23: ='Community Shares'!G10 -> -10369.5
B24: Mortgage | C24: =-Mortgage!D67 -> 0 | D24: =-Mortgage!D71 -> 0 | E24: =-Mortgage!D75 -> 0 | F24: =-Mortgage!D79 -> 0 | I24: =-Mortgage!E15 -> 0 | J24: =-Mortgage!F15 -> 0 | K24: =-Mortgage!G15 -> 0 | L24: =-Mortgage!H15 -> 0
B25: (Total Interest) | C25: =SUM(C23:C24) -> 0 | D25: =SUM(D23:D24) -> 0 | E25: =SUM(E23:E24) -> 0 | F25: =SUM(F23:F24) -> 0 | H25: =SUM(H23:H24) -> 0 | I25: =SUM(I23:I24) -> -10369.5 | J25: =SUM(J23:J24) -> -10369.5 | K25: =SUM(K23:K24) -> -10369.5 | L25: =SUM(L23:L24) -> -10369.5
B27: (Extra-Ordinary Day 1 Costs)
B28: Other costs | C28: =H28 -> 0
B29: Business Development | C29: =H29 -> 0 | H29: =-'Start Up Costs'!J7 -> 0
B30: (Total Extra-Ordinary Day 1 Costs) | C30: =SUM(C28:C29) -> 0 | D30: =SUM(D28:D29) -> 0 | E30: =SUM(E28:E29) -> 0 | F30: =SUM(F28:F29) -> 0 | H30: =SUM(H28:H29) -> 0 | I30: =SUM(I28:I29) -> 0 | J30: =SUM(J28:J29) -> 0 | K30: =SUM(K28:K29) -> 0 | L30: =SUM(L28:L29) -> 0
